BEGIN:VCALENDAR
VERSION:2.0
PRODID:www.gruene-lahn-dill.de
METHOD:PUBLISH
BEGIN:VTIMEZONE
TZID:Europe/Berlin
X-LIC-LOCATION:Europe/Berlin
BEGIN:DAYLIGHT
TZOFFSETFROM:+0100
TZOFFSETTO:+0200
TZNAME:CEST
DTSTART:19700329T020000
RRULE:FREQ=YEARLY;INTERVAL=1;BYDAY=-1SU;BYMONTH=3
END:DAYLIGHT
BEGIN:STANDARD
TZOFFSETFROM:+0200
TZOFFSETTO:+0100
TZNAME:CET
DTSTART:19701025T030000
RRULE:FREQ=YEARLY;INTERVAL=1;BYDAY=-1SU;BYMONTH=10
END:STANDARD
END:VTIMEZONE
BEGIN:VEVENT
UID:5333ea1c79febcd40df5885f81338840@www.gruene-lahn-dill.de
URL;VALUE=URI:https://www.gruene-lahn-dill.de/termine/kreisvorstandssitzu
 ng-8/
LOCATION:
SUMMARY:Kreisvorstandssitzung
DESCRIPTION;ALTREP="data:text/html,Am%2022.%20April%20findet%20die%20n%C3
 %A4chste%20Kreisvorstandssitzung%20statt.":Am 22. April findet die nächs
 te Kreisvorstandssitzung statt.
CLASS:PUBLIC
DTSTART;TZID=Europe/Berlin:20260422T190000
DTEND;TZID=Europe/Berlin:20260422T200000
DTSTAMP:20260422T083520
END:VEVENT
BEGIN:VEVENT
UID:cd860c6cfac09bff205e774a1aeacc7e@www.gruene-lahn-dill.de
URL;VALUE=URI:https://www.gruene-lahn-dill.de/termine/fraktionssitzung-de
 r-kreistagsfraktion/
LOCATION:
SUMMARY:Fraktionssitzung der Kreistagsfraktion
DESCRIPTION;ALTREP="data:text/html,Am%20Dienstag%2C%20den%205.%20Mai%2C%2
 0findet%20die%202.%20Fraktionssitzung%20der%20neuen%20Kreistagsfraktion%2
 0statt.":Am Dienstag\, den 5. Mai\, findet die 2. Fraktionssitzung der ne
 uen Kreistagsfraktion statt.
CLASS:PUBLIC
DTSTART;TZID=Europe/Berlin:20260505T183000
DTEND;TZID=Europe/Berlin:20260505T193000
DTSTAMP:20260422T083520
END:VEVENT
BEGIN:VEVENT
UID:3514bb2b85e24595f52911c2a939b7ee@www.gruene-lahn-dill.de
URL;VALUE=URI:https://www.gruene-lahn-dill.de/termine/politischer-frauens
 tammtisch-9/
LOCATION:
SUMMARY:Politischer Frauenstammtisch
DESCRIPTION;ALTREP="data:text/html,Am%20Donnerstag%2C%20den%2021.%20Mai%2
 0um%2019%20Uhr%2C%20findet%20der%20n%C3%A4chste%20Politische%20Frauenstam
 mtisch%20statt.%0D%0A%0D%0ADer%20Ort%20wird%20noch%20bekannt%20gegeben.%0
 D%0A%0D%0ALiebe%20Gr%C3%BC%C3%9Fe%0D%0A%0D%0APetra%20und%20Emely":Am Donn
 erstag\, den 21. Mai um 19 Uhr\, findet der nächste Politische Frauensta
 mmtisch statt.\n\nDer Ort wird noch bekannt gegeben.\n\nLiebe Grüße\n\n
 Petra und Emely
CLASS:PUBLIC
DTSTART;TZID=Europe/Berlin:20260521T190000
DTEND;TZID=Europe/Berlin:20260521T200000
DTSTAMP:20260422T083520
END:VEVENT
BEGIN:VEVENT
UID:38218c6bcdc9030bd4aba68ddfc0d613@www.gruene-lahn-dill.de
URL;VALUE=URI:https://www.gruene-lahn-dill.de/termine/fraktionssitzung-de
 r-kreistagsfraktion-2/
LOCATION:
SUMMARY:Fraktionssitzung der Kreistagsfraktion
DESCRIPTION;ALTREP="data:text/html,Am%20Dienstag%2C%20den%2026.%20Mai%2C%
 20findet%20die%203.%20Fraktionssitzung%20der%20Kreistagsfraktion%20statt.
 ":Am Dienstag\, den 26. Mai\, findet die 3. Fraktionssitzung der Kreistag
 sfraktion statt.
CLASS:PUBLIC
DTSTART;TZID=Europe/Berlin:20260526T183000
DTEND;TZID=Europe/Berlin:20260526T193000
DTSTAMP:20260422T083520
END:VEVENT
BEGIN:VEVENT
UID:57a88e5132b87bcbd838382f416e8632@www.gruene-lahn-dill.de
URL;VALUE=URI:https://www.gruene-lahn-dill.de/termine/christopher-street-
 day/
LOCATION:Parkplatz Avignon Anlage, Franziskanerstraße 4-6, 35578 Wetzlar
SUMMARY:Christopher Street Day
DESCRIPTION;ALTREP="data:text/html,Der%20Chrisopher%20Street%20Day%20ist%
 20ein%20Fest-%2C%20Gedenk-%2C%20Kampf-%20und%20Demonstrationstag%20f%C3%B
 Cr%20und%20mit%20mittelhessischen%20Queers%20sowie%20Unterst%C3%BCtzer%2A
 innen.%0D%0A%0D%0AAm%20Samstag%2C%20den%2020.%20Juni%202026%20findet%20de
 r%20CSD%20Mittelhessen%20um%2011%3A30%20Uhr%20statt.%20Der%20Demonstratio
 nszug%20startet%20vor%20dem%20Herkules%20Center%20in%20der%20Wetzlarer%20
 Bahnhofsstra%C3%9Fe%20und%20geht%20durch%20die%20Innenstadt.%20Anschlie%C
 3%9Fend%20gibt%20es%20ein%20Stra%C3%9Fenfest%20am%20Parkplatz%20der%20Avi
 gnon-Anlage.%0D%0A%3Cdiv%20class%3D%22col-5%20col-12-small%22%3E%0D%0A%0D
 %0AEs%20wird%20mit%20einem%20bunten%20B%C3%BChnenprogramm%20gefeiert%20bi
 s%2020%20Uhr.%0D%0A%0D%0A%3C%2Fdiv%3E%0D%0A%3Ca%20href%3D%22https%3A%2F%2
 Fcsdmittelhessen.de%2F%22%20target%3D%22_blank%22%20rel%3D%22noopener%22%
 3EHier%3C%2Fa%3E%20findest%20Du%20alle%20bisherigen%20Informationen.%0D%0
 A%0D%0A%26nbsp%3B%0D%0A%0D%0A%26nbsp%3B":Der Chrisopher Street Day ist ei
 n Fest-\, Gedenk-\, Kampf- und Demonstrationstag für und mit mittelhessi
 schen Queers sowie Unterstützer*innen.\n\nAm Samstag\, den 20. Juni 2026
  findet der CSD Mittelhessen um 11:30 Uhr statt. Der Demonstrationszug st
 artet vor dem Herkules Center in der Wetzlarer Bahnhofsstraße und geht d
 urch die Innenstadt. Anschließend gibt es ein Straßenfest am Parkplatz 
 der Avignon-Anlage.\n\nEs wird mit einem bunten Bühnenprogramm gefeiert 
 bis 20 Uhr.\n\nHier findest Du alle bisherigen Informationen.\n\n \n\n 
CLASS:PUBLIC
DTSTART;TZID=Europe/Berlin:20260620T113000
DTEND;TZID=Europe/Berlin:20260620T200000
DTSTAMP:20260422T083520
END:VEVENT
END:VCALENDAR