BEGIN:VCALENDAR
VERSION:2.0
PRODID:www.gruene-lahn-dill.de
METHOD:PUBLISH
BEGIN:VTIMEZONE
TZID:Europe/Berlin
X-LIC-LOCATION:Europe/Berlin
BEGIN:DAYLIGHT
TZOFFSETFROM:+0100
TZOFFSETTO:+0200
TZNAME:CEST
DTSTART:19700329T020000
RRULE:FREQ=YEARLY;INTERVAL=1;BYDAY=-1SU;BYMONTH=3
END:DAYLIGHT
BEGIN:STANDARD
TZOFFSETFROM:+0200
TZOFFSETTO:+0100
TZNAME:CET
DTSTART:19701025T030000
RRULE:FREQ=YEARLY;INTERVAL=1;BYDAY=-1SU;BYMONTH=10
END:STANDARD
END:VTIMEZONE
BEGIN:VEVENT
UID:1f40d4af2e202463a0792ce75f39677f@www.gruene-lahn-dill.de
URL;VALUE=URI:https://www.gruene-lahn-dill.de/termine/wahlkampfauftakt-gr
 uenen-jugend/
LOCATION:Kreisgeschäftsstelle Grüne Lahn-Dill, Weißadlergasse 9, Wetzl
 ar
SUMMARY:Wahlkampfauftakt Grünen Jugend
DESCRIPTION;ALTREP="data:text/html,%0A%3Cp%3EUnter%20dem%20Motto%20%22Piz
 za%20und%20Wahlkampf%22%20trifft%20sich%20die%20Gr%C3%BCne%20Jugend%20Lah
 n-Dill%20am%20Montag%2C%20den%2013.01.2025%20zum%20Wahlkampfauftakt%20mit
 %20Katrin%20Schleenbecker%2C%20MdL%20in%20der%20Gr%C3%BCnen%20Kreisgesch%
 C3%A4ftsstelle%20in%20Wetzlar.%3Cbr%3E%3C%2Fp%3E%0A%0A%0A%0A%3Cp%3EWir%20
 freuen%20uns%20auf%20spannende%20Diskussionen%20bei%20leckerer%20Pizza.%2
 0Kommt%20gern%20dazu%20und%20erlebt%20Politik%20auf%20Augenh%C3%B6he.%3C%
 2Fp%3E%0A%0A%0A%0A%3Cp%3E%3C%2Fp%3E%0A":Unter dem Motto "Pizza und Wahlka
 mpf" trifft sich die Grüne Jugend Lahn-Dill am Montag\, den 13.01.2025 z
 um Wahlkampfauftakt mit Katrin Schleenbecker\, MdL in der Grünen Kreisge
 schäftsstelle in Wetzlar.\n\nWir freuen uns auf spannende Diskussionen b
 ei leckerer Pizza. Kommt gern dazu und erlebt Politik auf Augenhöhe.
CLASS:PUBLIC
DTSTART;TZID=Europe/Berlin:20250113T180000
DTEND;TZID=Europe/Berlin:20250113T190000
DTSTAMP:20260421T090410
END:VEVENT
END:VCALENDAR