BEGIN:VCALENDAR
VERSION:2.0
PRODID:www.gruene-lahn-dill.de
METHOD:PUBLISH
BEGIN:VTIMEZONE
TZID:Europe/Berlin
X-LIC-LOCATION:Europe/Berlin
BEGIN:DAYLIGHT
TZOFFSETFROM:+0100
TZOFFSETTO:+0200
TZNAME:CEST
DTSTART:19700329T020000
RRULE:FREQ=YEARLY;INTERVAL=1;BYDAY=-1SU;BYMONTH=3
END:DAYLIGHT
BEGIN:STANDARD
TZOFFSETFROM:+0200
TZOFFSETTO:+0100
TZNAME:CET
DTSTART:19701025T030000
RRULE:FREQ=YEARLY;INTERVAL=1;BYDAY=-1SU;BYMONTH=10
END:STANDARD
END:VTIMEZONE
BEGIN:VEVENT
UID:1723a5db05fb0187771ff27e4cdbe285@www.gruene-lahn-dill.de
URL;VALUE=URI:https://www.gruene-lahn-dill.de/termine/wahlhearing-ihk-lah
 n-dill/
LOCATION:IHK-Geschäftsstelle Dillenburg, Am Nebelsberg 1, Dillenburg
SUMMARY:Wahlhearing IHK Lahn-Dill
DESCRIPTION;ALTREP="data:text/html,%0A%3Cp%3EAm%20Donnerstag%2C%20den%200
 6.02.2025%20ist%20unser%20Direktkandidat%2C%20Dr.%20Jan%20Marien%2C%20zu%
 20Gast%20beim%20Wahlhearing%20der%20IHK%20Lahn-Dill.%3C%2Fp%3E%0A%0A%0A%0
 A%3Cp%3EBeim%20Wahlhearing%20bekommen%20die%20Kandidatinnen%20und%20Kandi
 daten%20des%20Lahn-Dill%20Kreises%20die%20Gelegenheit%2C%20sich%20den%20F
 ragen%20und%20Forderungen%20der%20Unternehmerinnen%20und%20Unternehmer%20
 im%20Wirtschaftsraum%20an%20Lahn%20und%20Dill%20zu%20stellen.%20%3C%2Fp%3
 E%0A":Am Donnerstag\, den 06.02.2025 ist unser Direktkandidat\, Dr. Jan M
 arien\, zu Gast beim Wahlhearing der IHK Lahn-Dill.\n\nBeim Wahlhearing b
 ekommen die Kandidatinnen und Kandidaten des Lahn-Dill Kreises die Gelege
 nheit\, sich den Fragen und Forderungen der Unternehmerinnen und Unterneh
 mer im Wirtschaftsraum an Lahn und Dill zu stellen.
CLASS:PUBLIC
DTSTART;TZID=Europe/Berlin:20250206T170000
DTEND;TZID=Europe/Berlin:20250206T180000
DTSTAMP:20260421T090537
END:VEVENT
END:VCALENDAR