BEGIN:VCALENDAR
VERSION:2.0
PRODID:www.gruene-lahn-dill.de
METHOD:PUBLISH
BEGIN:VTIMEZONE
TZID:Europe/Berlin
X-LIC-LOCATION:Europe/Berlin
BEGIN:DAYLIGHT
TZOFFSETFROM:+0100
TZOFFSETTO:+0200
TZNAME:CEST
DTSTART:19700329T020000
RRULE:FREQ=YEARLY;INTERVAL=1;BYDAY=-1SU;BYMONTH=3
END:DAYLIGHT
BEGIN:STANDARD
TZOFFSETFROM:+0200
TZOFFSETTO:+0100
TZNAME:CET
DTSTART:19701025T030000
RRULE:FREQ=YEARLY;INTERVAL=1;BYDAY=-1SU;BYMONTH=10
END:STANDARD
END:VTIMEZONE
BEGIN:VEVENT
UID:7aa4b54ac87a3527bb8d7e2ae4f7adde@www.gruene-lahn-dill.de
URL;VALUE=URI:https://www.gruene-lahn-dill.de/termine/politischer-frauens
 tammtisch-8/
LOCATION:
SUMMARY:Politischer Frauenstammtisch
DESCRIPTION;ALTREP="data:text/html,Am%20Donnerstag%2C%20den%2021.%20Mai%2
 C%20findet%20der%20n%C3%A4chste%20Politische%20Frauenstammtisch%20statt.%
 0D%0A%0D%0ADer%20Ort%20wird%20noch%20bekann%20gegeben.%0D%0A%0D%0A%26nbsp
 %3B%0D%0A%0D%0ALiebe%20Gr%C3%BC%C3%9Fe%0D%0A%0D%0AEmely%20und%20Petra":Am
  Donnerstag\, den 21. Mai\, findet der nächste Politische Frauenstammtis
 ch statt.\n\nDer Ort wird noch bekann gegeben.\n\n \n\nLiebe Grüße\n\n
 Emely und Petra
CLASS:PUBLIC
DTSTART;TZID=Europe/Berlin:20260521T190000
DTEND;TZID=Europe/Berlin:20260521T200000
DTSTAMP:20260420T150016
END:VEVENT
END:VCALENDAR