BEGIN:VCALENDAR
VERSION:2.0
PRODID:www.gruene-lahn-dill.de
METHOD:PUBLISH
BEGIN:VTIMEZONE
TZID:Europe/Berlin
X-LIC-LOCATION:Europe/Berlin
BEGIN:DAYLIGHT
TZOFFSETFROM:+0100
TZOFFSETTO:+0200
TZNAME:CEST
DTSTART:19700329T020000
RRULE:FREQ=YEARLY;INTERVAL=1;BYDAY=-1SU;BYMONTH=3
END:DAYLIGHT
BEGIN:STANDARD
TZOFFSETFROM:+0200
TZOFFSETTO:+0100
TZNAME:CET
DTSTART:19701025T030000
RRULE:FREQ=YEARLY;INTERVAL=1;BYDAY=-1SU;BYMONTH=10
END:STANDARD
END:VTIMEZONE
BEGIN:VEVENT
UID:962d0be1b278580aa21979cb6fa3f374@www.gruene-lahn-dill.de
URL;VALUE=URI:https://www.gruene-lahn-dill.de/termine/kreisvorstandssitzu
 ng-5/
LOCATION:Mehrzweckhalle, Zur Turnhalle 1, 35745 Herborn
SUMMARY:Kreisvorstandssitzung
DESCRIPTION;ALTREP="data:text/html,%0A%3Cp%3EDie%20n%C3%A4chste%20Kreisvo
 rstandssitzung%20findet%20statt%20am%20Mittwoch%2C%20den%205.%20Februar%2
 C%20um%2017%3A30%20Uhr%20in%20Herborn-Seelbach.%20%3C%2Fp%3E%0A":Die näc
 hste Kreisvorstandssitzung findet statt am Mittwoch\, den 5. Februar\, um
  17:30 Uhr in Herborn-Seelbach.
CLASS:PUBLIC
DTSTART;TZID=Europe/Berlin:20250205T173000
DTEND;TZID=Europe/Berlin:20250205T183000
DTSTAMP:20260420T035245
END:VEVENT
END:VCALENDAR