BEGIN:VCALENDAR
VERSION:2.0
PRODID:www.gruene-lahn-dill.de
METHOD:PUBLISH
BEGIN:VTIMEZONE
TZID:Europe/Berlin
X-LIC-LOCATION:Europe/Berlin
BEGIN:DAYLIGHT
TZOFFSETFROM:+0100
TZOFFSETTO:+0200
TZNAME:CEST
DTSTART:19700329T020000
RRULE:FREQ=YEARLY;INTERVAL=1;BYDAY=-1SU;BYMONTH=3
END:DAYLIGHT
BEGIN:STANDARD
TZOFFSETFROM:+0200
TZOFFSETTO:+0100
TZNAME:CET
DTSTART:19701025T030000
RRULE:FREQ=YEARLY;INTERVAL=1;BYDAY=-1SU;BYMONTH=10
END:STANDARD
END:VTIMEZONE
BEGIN:VEVENT
UID:0ee87f798e3b5544e3ac9bfdb8a08165@www.gruene-lahn-dill.de
URL;VALUE=URI:https://www.gruene-lahn-dill.de/termine/kreismitgliedervers
 ammlung-5/
LOCATION:
SUMMARY:Kreismitgliederversammlung
DESCRIPTION;ALTREP="data:text/html,Die%20n%C3%A4chste%20Kreismitgliederve
 rsammlung%20%28%3DKMV%29%20ist%20am%20Dienstag%2C%20den%2020.%20Mai%20202
 5%20um%2019.00%20Uhr.%0D%0A%0D%0ADas%20Neumitgliedertreffen%20findet%20tr
 aditionell%20um%2018.30%20Uhr%20statt.%0D%0A%0D%0AWeitere%20Informationen
 %20folgen.":Die nächste Kreismitgliederversammlung (=KMV) ist am Diensta
 g\, den 20. Mai 2025 um 19.00 Uhr.\n\nDas Neumitgliedertreffen findet tra
 ditionell um 18.30 Uhr statt.\n\nWeitere Informationen folgen.
CLASS:PUBLIC
DTSTART;TZID=Europe/Berlin:20250520T190000
DTEND;TZID=Europe/Berlin:20250520T200000
DTSTAMP:20260424T100352
END:VEVENT
END:VCALENDAR